BEGIN:VCALENDAR
VERSION:2.0
CALSCALE:GREGORIAN
PRODID:-//Diputació de Barcelona//DibaCMS//EN
BEGIN:VEVENT
UID:7624
DTSTAMP:20260423T101211
DTSTART:20251128T160000
DTEND:20251128T200000
SUMMARY:ENCESA DE LLUMS 2025
LOCATION:
METHOD:PUBLISH
X-WR-CALNAME:casserres@casserres.cat
X-WR-TIMEZONE:Europe/Madrid
DESCRIPTION:
URI:https://www.casserres.cat/actualitat/agenda/encesa-de-llums-2025.html
CLASS:PUBLIC
END:VEVENT
END:VCALENDAR
