BEGIN:VCALENDAR
VERSION:2.0
CALSCALE:GREGORIAN
PRODID:-//Diputació de Barcelona//DibaCMS//EN
BEGIN:VEVENT
UID:7591
DTSTAMP:20260423T101022
DTSTART:20250724T183000
DTEND:20250724T203000
SUMMARY:INTERCANVI CULINARI 2025
LOCATION:PISCINES DE CASSERRES 
METHOD:PUBLISH
X-WR-CALNAME:casserres@casserres.cat
X-WR-TIMEZONE:Europe/Madrid
DESCRIPTION:
URI:https://www.casserres.cat/actualitat/agenda/intercanvi-culinari-2025.html
CLASS:PUBLIC
END:VEVENT
END:VCALENDAR
