BEGIN:VCALENDAR
VERSION:2.0
CALSCALE:GREGORIAN
PRODID:-//Diputació de Barcelona//DibaCMS//EN
BEGIN:VEVENT
UID:7577
DTSTAMP:20260423T083323
DTSTART:20250803T190000
DTEND:20250803T220000
SUMMARY:BALLS D'ESTIU 2025
LOCATION:Plaça Santa Maria (En cas de mal temps es farà al pavelló) 
METHOD:PUBLISH
X-WR-CALNAME:casserres@casserres.cat
X-WR-TIMEZONE:Europe/Madrid
DESCRIPTION:
A càrrec de Joan Altarriba

Durant el ball hi haurà un sorteig d’una caixa de cava i un sorteig de dos vals de 10 €.


URI:https://www.casserres.cat/actualitat/agenda/7577-balls-destiu-2025.html
CLASS:PUBLIC
END:VEVENT
END:VCALENDAR
